BEGIN:VCALENDAR
VERSION:2.0
PRODID:-//Kamil Kartasiński - ECPv6.15.20//NONSGML v1.0//EN
CALSCALE:GREGORIAN
METHOD:PUBLISH
X-ORIGINAL-URL:https://kkartasinski.pl
X-WR-CALDESC:Wydarzenia dla Kamil Kartasiński
REFRESH-INTERVAL;VALUE=DURATION:PT1H
X-Robots-Tag:noindex
X-PUBLISHED-TTL:PT1H
BEGIN:VTIMEZONE
TZID:Europe/Warsaw
BEGIN:DAYLIGHT
TZOFFSETFROM:+0100
TZOFFSETTO:+0200
TZNAME:CEST
DTSTART:20200329T010000
END:DAYLIGHT
BEGIN:STANDARD
TZOFFSETFROM:+0200
TZOFFSETTO:+0100
TZNAME:CET
DTSTART:20201025T010000
END:STANDARD
BEGIN:DAYLIGHT
TZOFFSETFROM:+0100
TZOFFSETTO:+0200
TZNAME:CEST
DTSTART:20210328T010000
END:DAYLIGHT
BEGIN:STANDARD
TZOFFSETFROM:+0200
TZOFFSETTO:+0100
TZNAME:CET
DTSTART:20211031T010000
END:STANDARD
BEGIN:DAYLIGHT
TZOFFSETFROM:+0100
TZOFFSETTO:+0200
TZNAME:CEST
DTSTART:20220327T010000
END:DAYLIGHT
BEGIN:STANDARD
TZOFFSETFROM:+0200
TZOFFSETTO:+0100
TZNAME:CET
DTSTART:20221030T010000
END:STANDARD
END:VTIMEZONE
BEGIN:VEVENT
DTSTART;VALUE=DATE:20210125
DTEND;VALUE=DATE:20210126
DTSTAMP:20260425T163106
CREATED:20210125T182015Z
LAST-MODIFIED:20240903T063545Z
UID:2705-1611532800-1611619199@kkartasinski.pl
SUMMARY:"Jak odszukać dziadka z Wehrmachtu?" - wykład on-line
DESCRIPTION:Wykład zorganizowany przez Warszawskie Towarzystwo Genologiczne\, poświęcony poszukiwaniom genealogicznym osób służących w Wehrmachcie w latach II wojny światowej.
URL:https://kkartasinski.pl/kalendarz/odszukaj-dziadka-w-spotkanie-autorskie/
LOCATION:Internet
ATTACH;FMTTYPE=image/jpeg:https://kkartasinski.pl/wp-content/uploads/slider_ze_zdjeciami_zolnierzy.jpg
END:VEVENT
END:VCALENDAR