BEGIN:VCALENDAR
VERSION:2.0
PRODID:-//Kamil Kartasiński - ECPv6.15.20//NONSGML v1.0//EN
CALSCALE:GREGORIAN
METHOD:PUBLISH
X-WR-CALNAME:Kamil Kartasiński
X-ORIGINAL-URL:https://kkartasinski.pl
X-WR-CALDESC:Wydarzenia dla Kamil Kartasiński
REFRESH-INTERVAL;VALUE=DURATION:PT1H
X-Robots-Tag:noindex
X-PUBLISHED-TTL:PT1H
BEGIN:VTIMEZONE
TZID:Europe/Warsaw
BEGIN:DAYLIGHT
TZOFFSETFROM:+0100
TZOFFSETTO:+0200
TZNAME:CEST
DTSTART:20220327T010000
END:DAYLIGHT
BEGIN:STANDARD
TZOFFSETFROM:+0200
TZOFFSETTO:+0100
TZNAME:CET
DTSTART:20221030T010000
END:STANDARD
BEGIN:DAYLIGHT
TZOFFSETFROM:+0100
TZOFFSETTO:+0200
TZNAME:CEST
DTSTART:20230326T010000
END:DAYLIGHT
BEGIN:STANDARD
TZOFFSETFROM:+0200
TZOFFSETTO:+0100
TZNAME:CET
DTSTART:20231029T010000
END:STANDARD
BEGIN:DAYLIGHT
TZOFFSETFROM:+0100
TZOFFSETTO:+0200
TZNAME:CEST
DTSTART:20240331T010000
END:DAYLIGHT
BEGIN:STANDARD
TZOFFSETFROM:+0200
TZOFFSETTO:+0100
TZNAME:CET
DTSTART:20241027T010000
END:STANDARD
END:VTIMEZONE
BEGIN:VEVENT
DTSTART;VALUE=DATE:20230119
DTEND;VALUE=DATE:20230120
DTSTAMP:20260424T011947
CREATED:20240410T121559Z
LAST-MODIFIED:20240410T121748Z
UID:2473-1674086400-1674172799@kkartasinski.pl
SUMMARY:"Żuawi Śmierci" - spotkanie autorskie
DESCRIPTION:Wykład o Żuawach Śmierci i ich udziału w bitwie pod Miechowem. Wykład zorganizowany w ramach spotkania autorskiego przez Muzeum Ziemi Miechowskiej.
URL:https://kkartasinski.pl/kalendarz/zuawi-smierci-spotkanie-autorskie-2/
LOCATION:Miechów
ATTACH;FMTTYPE=image/jpeg:https://kkartasinski.pl/wp-content/uploads/IMG_6359-scaled.jpg
END:VEVENT
END:VCALENDAR