BEGIN:VCALENDAR
VERSION:2.0
PRODID:-//Kamil Kartasiński - ECPv6.15.20//NONSGML v1.0//EN
CALSCALE:GREGORIAN
METHOD:PUBLISH
X-WR-CALNAME:Kamil Kartasiński
X-ORIGINAL-URL:https://kkartasinski.pl
X-WR-CALDESC:Wydarzenia dla Kamil Kartasiński
REFRESH-INTERVAL;VALUE=DURATION:PT1H
X-Robots-Tag:noindex
X-PUBLISHED-TTL:PT1H
BEGIN:VTIMEZONE
TZID:Europe/Warsaw
BEGIN:DAYLIGHT
TZOFFSETFROM:+0100
TZOFFSETTO:+0200
TZNAME:CEST
DTSTART:20220327T010000
END:DAYLIGHT
BEGIN:STANDARD
TZOFFSETFROM:+0200
TZOFFSETTO:+0100
TZNAME:CET
DTSTART:20221030T010000
END:STANDARD
BEGIN:DAYLIGHT
TZOFFSETFROM:+0100
TZOFFSETTO:+0200
TZNAME:CEST
DTSTART:20230326T010000
END:DAYLIGHT
BEGIN:STANDARD
TZOFFSETFROM:+0200
TZOFFSETTO:+0100
TZNAME:CET
DTSTART:20231029T010000
END:STANDARD
BEGIN:DAYLIGHT
TZOFFSETFROM:+0100
TZOFFSETTO:+0200
TZNAME:CEST
DTSTART:20240331T010000
END:DAYLIGHT
BEGIN:STANDARD
TZOFFSETFROM:+0200
TZOFFSETTO:+0100
TZNAME:CET
DTSTART:20241027T010000
END:STANDARD
END:VTIMEZONE
BEGIN:VEVENT
DTSTART;VALUE=DATE:20230124
DTEND;VALUE=DATE:20230125
DTSTAMP:20260424T011919
CREATED:20240403T052130Z
LAST-MODIFIED:20240403T052130Z
UID:2305-1674518400-1674604799@kkartasinski.pl
SUMMARY:Lettres Sorbonne Université - wykład
DESCRIPTION:Wykład o Powstaniu Styczniowym dla studentów polonistyki Lettres Sorbonne Université. Wykład został zorganizowany przez Ambasadę RP w Paryżu. \nRelacja z wykładu \nFot. Jolanta Niedziela-Thebault
URL:https://kkartasinski.pl/kalendarz/lettres-sorbonne-universite-wyklad/
LOCATION:Paryż
ATTACH;FMTTYPE=image/jpeg:https://kkartasinski.pl/wp-content/uploads/FnU_A_RWIAI2Bc-.jpg
END:VEVENT
END:VCALENDAR