BEGIN:VCALENDAR
VERSION:2.0
PRODID:-//Kamil Kartasiński - ECPv6.15.20//NONSGML v1.0//EN
CALSCALE:GREGORIAN
METHOD:PUBLISH
X-WR-CALNAME:Kamil Kartasiński
X-ORIGINAL-URL:https://kkartasinski.pl
X-WR-CALDESC:Wydarzenia dla Kamil Kartasiński
REFRESH-INTERVAL;VALUE=DURATION:PT1H
X-Robots-Tag:noindex
X-PUBLISHED-TTL:PT1H
BEGIN:VTIMEZONE
TZID:Europe/Warsaw
BEGIN:DAYLIGHT
TZOFFSETFROM:+0100
TZOFFSETTO:+0200
TZNAME:CEST
DTSTART:20210328T010000
END:DAYLIGHT
BEGIN:STANDARD
TZOFFSETFROM:+0200
TZOFFSETTO:+0100
TZNAME:CET
DTSTART:20211031T010000
END:STANDARD
BEGIN:DAYLIGHT
TZOFFSETFROM:+0100
TZOFFSETTO:+0200
TZNAME:CEST
DTSTART:20220327T010000
END:DAYLIGHT
BEGIN:STANDARD
TZOFFSETFROM:+0200
TZOFFSETTO:+0100
TZNAME:CET
DTSTART:20221030T010000
END:STANDARD
BEGIN:DAYLIGHT
TZOFFSETFROM:+0100
TZOFFSETTO:+0200
TZNAME:CEST
DTSTART:20230326T010000
END:DAYLIGHT
BEGIN:STANDARD
TZOFFSETFROM:+0200
TZOFFSETTO:+0100
TZNAME:CET
DTSTART:20231029T010000
END:STANDARD
END:VTIMEZONE
BEGIN:VEVENT
DTSTART;VALUE=DATE:20220511
DTEND;VALUE=DATE:20220512
DTSTAMP:20260424T123135
CREATED:20240410T122252Z
LAST-MODIFIED:20240410T122428Z
UID:2487-1652227200-1652313599@kkartasinski.pl
SUMMARY:"Człowiek jest jak okręt - dziennik Wiktora Szołtyska jako przykład losów Ślązaków po obu stronach frontu II WŚ" - wykład
DESCRIPTION:Wykład o genaologi wojskowej w ramach konferencji „Człowiek jest jak okręt – dziennik Wiktora Szołtyska jako przykład losów Ślązaków po obu stronach frontu II WŚ”. Wykład został zorganizowany przez Bibliotekę Wyry/Bibliotekę Gostyń. \nPlakat 
URL:https://kkartasinski.pl/kalendarz/czlowiek-jest-jak-okret-dziennik-wiktora-szoltyska-jako-przyklad-losow-slazakow-po-obu-stronach-frontu-ii-ws-wyklad/
LOCATION:Gostyń
ATTACH;FMTTYPE=image/jpeg:https://kkartasinski.pl/wp-content/uploads/280504506_5012428922168043_398910420547347456_n.jpg
END:VEVENT
BEGIN:VEVENT
DTSTART;VALUE=DATE:20220512
DTEND;VALUE=DATE:20220513
DTSTAMP:20260424T123135
CREATED:20240410T121946Z
LAST-MODIFIED:20240410T122055Z
UID:2474-1652313600-1652399999@kkartasinski.pl
SUMMARY:"Chłopak z Wehrmachtu. Żołnierz Andersa" - spotkanie autorskie
DESCRIPTION:Spotkanie autorskie dotyczące książki „Chłopak z Wehrmachtu. Żołnierz Andersa” w ramach Tygodnia Bibliotek 2022. Spotkanie zorganizowane przez Gminną Bibliotekę Publiczną w Ornontowicach. \nRelacja z wykładu 
URL:https://kkartasinski.pl/kalendarz/chlopak-z-wehrmachtu-zolnierz-andersa-spotkanie-autorskie/
LOCATION:Ornontowice
ATTACH;FMTTYPE=image/jpeg:https://kkartasinski.pl/wp-content/uploads/279803655_4575240029242815_8629004722153149311_n.jpg
END:VEVENT
END:VCALENDAR